BEGIN:VCALENDAR
VERSION:2.0
PRODID:-//ChamberMaster//Event Calendar 2.0//EN
METHOD:PUBLISH
X-PUBLISHED-TTL:P3D
REFRESH-INTERVAL:P3D
CALSCALE:GREGORIAN
BEGIN:VEVENT
DTSTART:20140819T210000Z
DTEND:20140820T010000Z
X-MICROSOFT-CDO-ALLDAYEVENT:FALSE
SUMMARY:Old Friends $1\,000 Poker Tourn'y & Benefit - 08/19/2014
DESCRIPTION:A real poker tournamentTexas Hold 'Em poker tournament--open to the public. 100% FREE to enter--- no catches and no gimmicks. $1\,000 in cash doled out to the top finishers. No points\, no qualifiers: it's all paid tonight! Pre-register at the link to save time and to guarantee play (even if you are late)
X-ALT-DESC;FMTTYPE=text/html:<p>A real poker tournament</p><p>Texas Hold 'Em poker tournament--open to the public.</p><p>&nbsp\;100% FREE to enter--- no catches and no gimmicks.</p><p>&nbsp\;$1\,000 in cash doled out to the top finishers. No points\, no qualifiers: it's all paid tonight!</p><p>&nbsp\;Pre-register at the link to save time and to guarantee play (even if you are late) </p><p>&nbsp\;</p><p></p><p> </p><p>&nbsp\;</p>
LOCATION:Parting Glass Pub
UID:e.2254.3456
SEQUENCE:3
DTSTAMP:20260424T160109Z
URL:https://chamber.saratoga.org/events/details/old-friends-1-000-poker-tourn-y-benefit-08-19-2014-08-19-2014-3456
END:VEVENT

END:VCALENDAR
