BEGIN:VCALENDAR
VERSION:2.0
PRODID:-//ChamberMaster//Event Calendar 2.0//EN
METHOD:PUBLISH
X-PUBLISHED-TTL:P3D
REFRESH-INTERVAL:P3D
CALSCALE:GREGORIAN
BEGIN:VEVENT
DTSTART:20150606T113000Z
DTEND:20151031T030000Z
X-MICROSOFT-CDO-ALLDAYEVENT:FALSE
SUMMARY:Oklahoma Training Track Tours
DESCRIPTION:Exclusive tours of the Oklahoma Training Track\n\nFind out why this beautiful and historic site\, located across the street from Saratoga Race Course\, is a favorite base for leading trainers such as Todd Pletcher and Nick Zito. Our behind the scenes tours\, offered in cooperation with the New York Racing Association\, are available from June to October. This walking tour covers approximately 1 mile and lasts for 1.5 hours. The cost is $10 for non-members and $5 for members. This price includes admission to the Museum after the tour. Sturdy walking shoes are suggested! For more information and reservations\, call (518) 584-0400\, ext. 120. For insurance reasons\, tour participants must be at least 10 years old. (No children in backpacks or strollers.) Oklahoma Tours are scheduled for Saturday only June - October. During the race meet\, tours are offered by reservation Monday and Wednesday-Sunday*(Except no tours on Friday August 7\, HOF Induction Day or Travers weekend). We offer one tour a day and the tour begins promptly at 8:30 a.m. and leaves from the Museum parking lot. Reservations are required. Space is limited! All reservations must be received by 4:00 p.m. the day before the tour. You will receive phone confirmation of your reservation. (Make sure you leave a phone number where you can be reached from 9am till 5pm.)
X-ALT-DESC;FMTTYPE=text/html:<p>Exclusive tours of the Oklahoma Training Track</p>\n\n<p>Find out why this beautiful and historic site\, located across the street from Saratoga Race Course\, is a favorite base for leading trainers such as Todd Pletcher and Nick Zito. Our behind the scenes tours\, offered in cooperation with the New York Racing Association\, are available from June to October. This walking tour covers approximately 1 mile and lasts for 1.5 hours. The cost is $10 for non-members and $5 for members. This price includes admission to the Museum after the tour. Sturdy walking shoes are suggested! For more information and reservations\, call (518) 584-0400\, ext. 120. For insurance reasons\, tour participants must be at least 10 years old. (No children in backpacks or strollers.) Oklahoma Tours are scheduled for Saturday only June - October. During the race meet\,&nbsp\;tours are offered by reservation Monday and Wednesday-Sunday*(Except no tours on Friday August 7\, HOF Induction Day or Travers weekend). We offer one tour a day and the tour begins promptly at 8:30 a.m. and leaves from the Museum parking lot. Reservations are required. Space is limited! All reservations must be received by 4:00 p.m. the day before the tour. You will receive phone confirmation of your reservation. (Make sure you leave a phone number where you can be reached from 9am till 5pm.)</p>\n
LOCATION:The National Museum of Racing and HOF
UID:e.2254.1379
SEQUENCE:3
DTSTAMP:20260422T130134Z
URL:https://chamber.saratoga.org/events/details/oklahoma-training-track-tours-06-06-2015-1379
END:VEVENT

END:VCALENDAR
