BEGIN:VCALENDAR
VERSION:2.0
PRODID:-//ChamberMaster//Event Calendar 2.0//EN
METHOD:PUBLISH
X-PUBLISHED-TTL:P3D
REFRESH-INTERVAL:P3D
CALSCALE:GREGORIAN
BEGIN:VEVENT
DTSTART:20161106T200000Z
DTEND:20161106T220000Z
X-MICROSOFT-CDO-ALLDAYEVENT:FALSE
SUMMARY:OFF BROADWAY SALUTE BENEFIT
DESCRIPTION:We are so happy to have the Music Company Orchestra\, a 60-piece volunteer community orchestra\, performing on Sunday November 6th at 3PM on the MAIN STAGE at Proctors with the Mohawk Valley Chorus. The concert will be a benefit show for UPH and all tickets sales will go to support the ongoing restoration and development of UPH as a year-round venue for the performing arts. The show will feature songs from some of your favorite Broadway musicals and is a perfect afternoon activity for the whole family. So bring the kids\, the grandparents\, or your karaoke buddy and join us for a fun\, enjoyable afternoon of song! General Admission is $25 and $22 for seniors.
X-ALT-DESC;FMTTYPE=text/html:We are so happy to have the Music Company Orchestra\, a 60-piece volunteer community orchestra\, performing on Sunday November 6th at 3PM on the MAIN STAGE at Proctors with the Mohawk Valley Chorus. The concert will be a benefit show for UPH and all tickets sales will go to support the ongoing restoration and development of UPH as a year-round venue for the performing arts. The show will feature songs from some of your favorite Broadway musicals and is a perfect afternoon activity for the whole family. So bring the kids\, the grandparents\, or your karaoke buddy and join us for a fun\, enjoyable afternoon of song! General Admission is $25 and $22 for seniors.
LOCATION:Proctors of Schenectady 432 State Street Schenectady
UID:e.2254.20833
SEQUENCE:3
DTSTAMP:20260420T200501Z
URL:https://chamber.saratoga.org/events/details/off-broadway-salute-benefit-20833
END:VEVENT

END:VCALENDAR
