BEGIN:VCALENDAR
VERSION:2.0
PRODID:-//ChamberMaster//Event Calendar 2.0//EN
METHOD:PUBLISH
X-PUBLISHED-TTL:P3D
REFRESH-INTERVAL:P3D
CALSCALE:GREGORIAN
BEGIN:VEVENT
DTSTART:20160522T170000Z
DTEND:20160522T200000Z
X-MICROSOFT-CDO-ALLDAYEVENT:FALSE
SUMMARY:Oatmeal and Honey Soap Making with Christine Eberhardt. #938-0626.
DESCRIPTION:Oatmeal and Honey go together like a horse and carriage! In this class\, you will learn how to make a traditional cold process soap using lye and you will also incorporate oatmeal and honey. Oatmeal is soothing and gently exfoliates as the honey leaves your skin feeling soft and moist. You will go home with a pound of natural homemade soap - but remember that our instructor will not be held responsible for your new addiction!
X-ALT-DESC;FMTTYPE=text/html:Oatmeal and Honey go together like a horse and carriage! In this class\, you will learn how to make a traditional cold process soap using lye and you will also incorporate oatmeal and honey. Oatmeal is soothing and gently exfoliates as the honey leaves your skin feeling soft and moist. You will go home with a pound of natural homemade soap - but remember that our instructor will not be held responsible for your new addiction!
LOCATION:Adirondack Folk School\, 51 Main Street\, Lake Luzerne\, NY 12846
UID:e.2254.15248
SEQUENCE:3
DTSTAMP:20260421T160720Z
URL:https://chamber.saratoga.org/events/details/oatmeal-and-honey-soap-making-with-christine-eberhardt-938-0626-05-22-2016-15248
END:VEVENT

END:VCALENDAR
