BEGIN:VCALENDAR
VERSION:2.0
PRODID:-//ChamberMaster//Event Calendar 2.0//EN
METHOD:PUBLISH
X-PUBLISHED-TTL:P3D
REFRESH-INTERVAL:P3D
CALSCALE:GREGORIAN
BEGIN:VEVENT
DTSTART:20140823T120000Z
DTEND:20140823T180000Z
X-MICROSOFT-CDO-ALLDAYEVENT:FALSE
SUMMARY:Oak Hill School's Inaugural Family Fun Day - 08/23/2014
DESCRIPTION:Family Fun Day/Open House/FundraiserActivities include: Bounce Houses\, Dunk Tank\, Lawn Games\, Food\, Silent Auction\, Bake Sale\, BBQ from 4-7
X-ALT-DESC;FMTTYPE=text/html:<p>Family Fun Day/Open House/Fundraiser</p><p>Activities include: Bounce Houses\, Dunk Tank\, Lawn Games\, Food\, Silent Auction\, Bake Sale\, BBQ from 4-7</p>
LOCATION:Oak Hill School
UID:e.2254.3326
SEQUENCE:3
DTSTAMP:20260424T160110Z
URL:https://chamber.saratoga.org/events/details/oak-hill-school-s-inaugural-family-fun-day-08-23-2014-08-23-2014-3326
END:VEVENT

END:VCALENDAR
