BEGIN:VCALENDAR
VERSION:2.0
PRODID:-//ChamberMaster//Event Calendar 2.0//EN
METHOD:PUBLISH
X-PUBLISHED-TTL:P3D
REFRESH-INTERVAL:P3D
CALSCALE:GREGORIAN
BEGIN:VEVENT
DTSTART:20140709T220000Z
DTEND:20140710T000000Z
X-MICROSOFT-CDO-ALLDAYEVENT:FALSE
SUMMARY:NYS Summer Writers Institute: Poetry and Fiction Reading - 07/09/2014
DESCRIPTION:NYS Summer Writers Institute: Poetry and Fiction ReadingBy James Longenbach and Joanna Scott.  8 p.m.-Davis Auditorium For more information call 518-580-5593
X-ALT-DESC;FMTTYPE=text/html:<p>NYS Summer Writers Institute: Poetry and Fiction Reading</p><p><span>By James Longenbach and Joanna Scott</span><span style="font-size: 10.5pt\; font-family: Arial\,sans-serif\;">.</span> </p> <p>8 p.m.-Davis Auditorium</p> <span style="font-size: 12pt\; font-family: Times New Roman\,serif\;">For more information call 518-580-5593</span>
LOCATION:Davis Auditorium\, Skidmore College
UID:e.2254.3379
SEQUENCE:3
DTSTAMP:20260424T180657Z
URL:https://chamber.saratoga.org/events/details/nys-summer-writers-institute-poetry-and-fiction-reading-07-09-2014-07-09-2014-3379
END:VEVENT

END:VCALENDAR
