BEGIN:VCALENDAR
VERSION:2.0
PRODID:-//ChamberMaster//Event Calendar 2.0//EN
METHOD:PUBLISH
X-PUBLISHED-TTL:P3D
REFRESH-INTERVAL:P3D
CALSCALE:GREGORIAN
BEGIN:VEVENT
DTSTART:20150711T000000Z
DTEND:20150711T020000Z
X-MICROSOFT-CDO-ALLDAYEVENT:FALSE
SUMMARY:NYS Summer Writers Institute: Fiction Reading
DESCRIPTION:NYS Summer Writers Institute: Fiction Reading By National Book Award-winning novelist Joyce Carol Oates (them\; We Were the Mulvaneys) 8 p.m.-Gannett Auditorium For more information call 518-580-5593
X-ALT-DESC;FMTTYPE=text/html:NYS Summer Writers Institute: Fiction Reading By National Book Award-winning novelist Joyce Carol Oates (them\; We Were the Mulvaneys) 8 p.m.-Gannett Auditorium For more information call 518-580-5593
LOCATION:Skidmore College\, Gannett Auditorium 815 N Broadway Saratoga Springs\, NY 12866
UID:e.2254.9731
SEQUENCE:3
DTSTAMP:20260423T041401Z
URL:https://chamber.saratoga.org/events/details/nys-summer-writers-institute-fiction-reading-07-10-2015-9731
END:VEVENT

END:VCALENDAR
