BEGIN:VCALENDAR
VERSION:2.0
PRODID:-//ChamberMaster//Event Calendar 2.0//EN
METHOD:PUBLISH
X-PUBLISHED-TTL:P3D
REFRESH-INTERVAL:P3D
CALSCALE:GREGORIAN
BEGIN:VEVENT
DTSTART:20150701T000000Z
DTEND:20150701T020000Z
X-MICROSOFT-CDO-ALLDAYEVENT:FALSE
SUMMARY:NYS Summer Writers Institute: Fiction Reading
DESCRIPTION:NYS Summer Writers Institute: Fiction Reading By Francine Prose and Caryl Phillips 8 p.m.-Davis Auditorium For more information call 518-580-5593
X-ALT-DESC;FMTTYPE=text/html:NYS Summer Writers Institute: Fiction Reading By Francine Prose and Caryl Phillips 8 p.m.-Davis Auditorium For more information call 518-580-5593
LOCATION:Skidmore College\, Davis Auditorium 815 North Broadway Saratoga Springs\, NY 12866
UID:e.2254.9634
SEQUENCE:3
DTSTAMP:20260423T073320Z
URL:https://chamber.saratoga.org/events/details/nys-summer-writers-institute-fiction-reading-06-30-2015-9634
END:VEVENT

END:VCALENDAR
