BEGIN:VCALENDAR
VERSION:2.0
PRODID:-//ChamberMaster//Event Calendar 2.0//EN
METHOD:PUBLISH
X-PUBLISHED-TTL:P3D
REFRESH-INTERVAL:P3D
CALSCALE:GREGORIAN
BEGIN:VEVENT
DTSTART:20150721T000000Z
DTEND:20150721T020000Z
X-MICROSOFT-CDO-ALLDAYEVENT:FALSE
SUMMARY:NYS Summer Writers Institute: Fiction and Poetry Reading
DESCRIPTION:NYS Summer Writers Institute: Fiction and Poetry Reading By Cristina Garcia and Wayne Koestenbaum 8 p.m.-Davis Auditorium For more information call 518-580-5593
X-ALT-DESC;FMTTYPE=text/html:NYS Summer Writers Institute: Fiction and Poetry Reading By Cristina Garcia and Wayne Koestenbaum 8 p.m.-Davis Auditorium For more information call 518-580-5593
LOCATION:Skidmore College\, Davis Auditorium 815 N Broadway Saratoga Springs\, NY 12866
UID:e.2254.9758
SEQUENCE:3
DTSTAMP:20260423T042806Z
URL:https://chamber.saratoga.org/events/details/nys-summer-writers-institute-fiction-and-poetry-reading-07-20-2015-9758
END:VEVENT

END:VCALENDAR
