BEGIN:VCALENDAR
VERSION:2.0
PRODID:-//ChamberMaster//Event Calendar 2.0//EN
METHOD:PUBLISH
X-PUBLISHED-TTL:P3D
REFRESH-INTERVAL:P3D
CALSCALE:GREGORIAN
BEGIN:VEVENT
DTSTART:20140715T220000Z
DTEND:20140716T000000Z
X-MICROSOFT-CDO-ALLDAYEVENT:FALSE
SUMMARY:NYS Summer Writers Institute: Fiction and Poetry Reading - 07/15/2014
DESCRIPTION:NYS Summer Writers Institute: Fiction and Poetry ReadingBy Marilynne Robinson and Peg Boyers (Honey with Tobacco\, Hard Bread) 8 p.m.-Davis Auditorium For more information call 518-580-5593
X-ALT-DESC;FMTTYPE=text/html:<p>NYS Summer Writers Institute: Fiction and Poetry Reading</p><p><span>By Marilynne Robinson and Peg Boyers </span>(<em>Honey with</em><em> <span>Tobacco\, Hard Bread</span></em>)</p> <p>8 p.m.-Davis Auditorium</p> <span style="font-size: 12pt\; font-family: Times New Roman\,serif\;">For more information call 518-580-5593</span>
LOCATION:Davis Auditorium\, Skidmore College
UID:e.2254.3388
SEQUENCE:3
DTSTAMP:20260424T180748Z
URL:https://chamber.saratoga.org/events/details/nys-summer-writers-institute-fiction-and-poetry-reading-07-15-2014-07-15-2014-3388
END:VEVENT

END:VCALENDAR
