BEGIN:VCALENDAR
VERSION:2.0
PRODID:-//ChamberMaster//Event Calendar 2.0//EN
METHOD:PUBLISH
X-PUBLISHED-TTL:P3D
REFRESH-INTERVAL:P3D
CALSCALE:GREGORIAN
BEGIN:VEVENT
DTSTART:20160730T000000Z
DTEND:20160730T020000Z
X-MICROSOFT-CDO-ALLDAYEVENT:FALSE
SUMMARY:NYS Summer Writers Institute
DESCRIPTION:Reading by Two Pulitzer-Prize Winners: Novelist Paul Harding (Tinkers\, Enon) and Poet Carl Dennis (Unknown Friends\, Practical Gods\, New & Selected Poems)
X-ALT-DESC;FMTTYPE=text/html:Reading by Two Pulitzer-Prize Winners: Novelist Paul Harding (Tinkers\, Enon) and Poet Carl Dennis (Unknown Friends\, Practical Gods\, New &amp\; Selected Poems)
LOCATION:Skidmore College\, Davis Auditorium 815 N Broadway Saratoga Springs\, NY 12866
UID:e.2254.17202
SEQUENCE:3
DTSTAMP:20260421T050839Z
URL:https://chamber.saratoga.org/events/details/nys-summer-writers-institute-07-29-2016-17202
END:VEVENT

END:VCALENDAR
