BEGIN:VCALENDAR
VERSION:2.0
PRODID:-//ChamberMaster//Event Calendar 2.0//EN
METHOD:PUBLISH
X-PUBLISHED-TTL:P3D
REFRESH-INTERVAL:P3D
CALSCALE:GREGORIAN
BEGIN:VEVENT
DTSTART:20160729T000000Z
DTEND:20160729T020000Z
X-MICROSOFT-CDO-ALLDAYEVENT:FALSE
SUMMARY:NYS Summer Writers Institute
DESCRIPTION:Reading by novelist-memoirist Jamaica Kincaid (Mister Potter\, See Now Then) and poet Henri Cole (Pierce The Skin\, Nothing To Declare)
X-ALT-DESC;FMTTYPE=text/html:Reading by novelist-memoirist Jamaica Kincaid (Mister Potter\, See Now Then) and poet Henri Cole (Pierce The Skin\, Nothing To Declare)
LOCATION:Skidmore College\, Davis Auditorium 815 N Broadway Saratoga Springs\, NY 12866
UID:e.2254.17200
SEQUENCE:3
DTSTAMP:20260421T051002Z
URL:https://chamber.saratoga.org/events/details/nys-summer-writers-institute-07-28-2016-17200
END:VEVENT

END:VCALENDAR
