BEGIN:VCALENDAR
VERSION:2.0
PRODID:-//ChamberMaster//Event Calendar 2.0//EN
METHOD:PUBLISH
X-PUBLISHED-TTL:P3D
REFRESH-INTERVAL:P3D
CALSCALE:GREGORIAN
BEGIN:VEVENT
DTSTART:20160723T000000Z
DTEND:20160723T020000Z
X-MICROSOFT-CDO-ALLDAYEVENT:FALSE
SUMMARY:NYS Summer Writers Institute
DESCRIPTION:Reading by poet Robert Pinsky (former Poet-Laureate of the United States\; author Gulf Music\, The Figured Wheel\, The Want Bone\, At The Foundling Hospital)
X-ALT-DESC;FMTTYPE=text/html:Reading by poet Robert Pinsky (former Poet-Laureate of the United States\; author Gulf Music\, The Figured Wheel\, The Want Bone\, At The Foundling Hospital)
LOCATION:Skidmore College\, Davis Auditorium 815 N Broadway Saratoga Springs\, NY 12866
UID:e.2254.17182
SEQUENCE:3
DTSTAMP:20260421T051002Z
URL:https://chamber.saratoga.org/events/details/nys-summer-writers-institute-07-22-2016-17182
END:VEVENT

END:VCALENDAR
