BEGIN:VCALENDAR
VERSION:2.0
PRODID:-//ChamberMaster//Event Calendar 2.0//EN
METHOD:PUBLISH
X-PUBLISHED-TTL:P3D
REFRESH-INTERVAL:P3D
CALSCALE:GREGORIAN
BEGIN:VEVENT
DTSTART:20160722T000000Z
DTEND:20160722T020000Z
X-MICROSOFT-CDO-ALLDAYEVENT:FALSE
SUMMARY:NYS Summer Writers Institute
DESCRIPTION:Reading by novelist Russell Banks (Cloudsplitter\, Rule Of The Bone\, The Sweet Hereafter) & poet Chase Twichell (Horses Where The Answers Should Have Been)
X-ALT-DESC;FMTTYPE=text/html:Reading by novelist Russell Banks (Cloudsplitter\, Rule Of The Bone\, The Sweet Hereafter) &amp\; poet Chase Twichell (Horses Where The Answers Should Have Been)
LOCATION:Skidmore College\, Davis Auditorium 815 N Broadway Saratoga Springs\, NY 12866
UID:e.2254.17181
SEQUENCE:3
DTSTAMP:20260421T050345Z
URL:https://chamber.saratoga.org/events/details/nys-summer-writers-institute-07-21-2016-17181
END:VEVENT

END:VCALENDAR
