BEGIN:VCALENDAR
VERSION:2.0
PRODID:-//ChamberMaster//Event Calendar 2.0//EN
METHOD:PUBLISH
X-PUBLISHED-TTL:P3D
REFRESH-INTERVAL:P3D
CALSCALE:GREGORIAN
BEGIN:VEVENT
DTSTART:20160707T000000Z
DTEND:20160707T020000Z
X-MICROSOFT-CDO-ALLDAYEVENT:FALSE
SUMMARY:NYS Summer Writers Institute
DESCRIPTION:Reading by novelist Howard Norman (The Bird Artist\, The Museum Guard) and novelist Francine Prose (Lovers at the Chameleon Club\, Peggy Guggenheim) 8 p.m.-Davis Auditorium For more information call 518-580-5593
X-ALT-DESC;FMTTYPE=text/html:Reading by novelist Howard Norman (The Bird Artist\, The Museum Guard) and novelist Francine Prose (Lovers at the Chameleon Club\, Peggy Guggenheim) 8 p.m.-Davis Auditorium For more information call 518-580-5593
LOCATION:Skidmore College\, Davis Auditorium 815 N Broadway Saratoga Springs\, NY 12866
UID:e.2254.17135
SEQUENCE:3
DTSTAMP:20260421T051002Z
URL:https://chamber.saratoga.org/events/details/nys-summer-writers-institute-07-06-2016-17135
END:VEVENT

END:VCALENDAR
