BEGIN:VCALENDAR
VERSION:2.0
PRODID:-//ChamberMaster//Event Calendar 2.0//EN
METHOD:PUBLISH
X-PUBLISHED-TTL:P3D
REFRESH-INTERVAL:P3D
CALSCALE:GREGORIAN
BEGIN:VEVENT
DTSTART:20140815T210000Z
DTEND:20140815T230000Z
X-MICROSOFT-CDO-ALLDAYEVENT:FALSE
SUMMARY:NYS Summer School of the Arts - 08/15/2014
DESCRIPTION:School of Dance: Modern Dance Final Performance7 p.m.-Skidmore Dance Theater For more information call 518-580-5546 or 518-474-8773
X-ALT-DESC;FMTTYPE=text/html:<p>School of Dance: Modern Dance Final Performance</p><p>7 p.m.-Skidmore Dance Theater</p> <span style="font-size: 12pt\; font-family: Times New Roman\,serif\;">For more information call 518-580-5546 or 518-474-8773</span>
LOCATION:Skidmore College Dance Theater
UID:e.2254.3449
SEQUENCE:3
DTSTAMP:20260424T160115Z
URL:https://chamber.saratoga.org/events/details/nys-summer-school-of-the-arts-08-15-2014-08-15-2014-3449
END:VEVENT

END:VCALENDAR
