BEGIN:VCALENDAR
VERSION:2.0
PRODID:-//ChamberMaster//Event Calendar 2.0//EN
METHOD:PUBLISH
X-PUBLISHED-TTL:P3D
REFRESH-INTERVAL:P3D
CALSCALE:GREGORIAN
BEGIN:VEVENT
DTSTART:20140812T220000Z
DTEND:20140812T233000Z
X-MICROSOFT-CDO-ALLDAYEVENT:FALSE
SUMMARY:NYS Summer School of the Arts - 08/12/2014
DESCRIPTION:School of Orchestral Studies Concert8 p.m.-Round Lake Auditorium\, Round Lake\, N.Y. For more information call 518-474-8773
X-ALT-DESC;FMTTYPE=text/html:<p>School of Orchestral Studies Concert</p><p>8 p.m.-Round Lake Auditorium\, Round Lake\, N.Y.</p> <span style="font-size: 12pt\; font-family: Times New Roman\,serif\;">For more information call 518-474-8773</span>
LOCATION:Round Lake Auditorium
UID:e.2254.3444
SEQUENCE:3
DTSTAMP:20260424T160116Z
URL:https://chamber.saratoga.org/events/details/nys-summer-school-of-the-arts-08-12-2014-08-12-2014-3444
END:VEVENT

END:VCALENDAR
