BEGIN:VCALENDAR
VERSION:2.0
PRODID:-//ChamberMaster//Event Calendar 2.0//EN
METHOD:PUBLISH
X-PUBLISHED-TTL:P3D
REFRESH-INTERVAL:P3D
CALSCALE:GREGORIAN
BEGIN:VEVENT
DTSTART:20140812T153000Z
DTEND:20140812T170000Z
X-MICROSOFT-CDO-ALLDAYEVENT:FALSE
SUMMARY:NYS Summer School of the Arts - 08/12/2014
DESCRIPTION:School of Orchestral Studies Concert1:30 p.m.- Arthur Zankel Music Center\, Ladd Hall Free and open to the public. For more information call 518-580-5546 or 518-474-8773
X-ALT-DESC;FMTTYPE=text/html:<p>School of Orchestral Studies Concert</p><p>1:30 p.m.- Arthur Zankel Music Center\, Ladd Hall</p> <p>Free and open to the public.</p> <span style="font-size: 12pt\; font-family: Times New Roman\,serif\;">For more information call 518-580-5546 or 518-474-8773</span>
LOCATION:Arthur Zankel Music Center\, Skidmore College
UID:e.2254.3441
SEQUENCE:3
DTSTAMP:20260424T160116Z
URL:https://chamber.saratoga.org/events/details/nys-summer-school-of-the-arts-08-12-2014-08-12-2014-3441
END:VEVENT

END:VCALENDAR
