BEGIN:VCALENDAR
VERSION:2.0
PRODID:-//ChamberMaster//Event Calendar 2.0//EN
METHOD:PUBLISH
X-PUBLISHED-TTL:P3D
REFRESH-INTERVAL:P3D
CALSCALE:GREGORIAN
BEGIN:VEVENT
DTSTART:20150830T150000Z
DTEND:20150830T163000Z
X-MICROSOFT-CDO-ALLDAYEVENT:FALSE
SUMMARY:NY Racing Fan Advisory Council Fan Forum
DESCRIPTION:Horse Racing Fan Forum -- free and open to the public. Retired NYRA race announcer Tim Durkin will talk about his interest in horse racing and take your questions. Attend and provide your input on how the fan experience can be improved at New York race tracks.
X-ALT-DESC;FMTTYPE=text/html:Horse Racing Fan Forum -- free and open to the public. Retired NYRA race announcer Tim Durkin will talk about his interest in horse racing and take your questions. Attend and provide your input on how the fan experience can be improved at New York race tracks.
LOCATION:Saratoga Race Course Upper Carousel
UID:e.2254.12318
SEQUENCE:3
DTSTAMP:20260423T024040Z
URL:https://chamber.saratoga.org/events/details/ny-racing-fan-advisory-council-fan-forum-08-30-2015-12318
END:VEVENT

END:VCALENDAR
