BEGIN:VCALENDAR
VERSION:2.0
PRODID:-//ChamberMaster//Event Calendar 2.0//EN
METHOD:PUBLISH
X-PUBLISHED-TTL:P3D
REFRESH-INTERVAL:P3D
CALSCALE:GREGORIAN
BEGIN:VEVENT
DTSTART:20160612T130000Z
DTEND:20160612T200000Z
X-MICROSOFT-CDO-ALLDAYEVENT:FALSE
SUMMARY:Nuno Patchwork Scarf with Carol Ingram. #988-0612.
DESCRIPTION:Create a one of a kind fabric with drape by felting merino wool top fibers into a previously woven\, lightweight fabric. Start with a base of a variety of silk fabrics (or if you would rather\, you can use a single piece). Work to create translucent areas while outlining\, to give the finished piece a patchwork or stained glass effect. There will be a strong emphasis on color and design choices as well as fashioning a well-felted fabric that hangs softly. Some basting will be required. Learning this nuno technique is a starting point to create clothing\, pillows\, window treatments and more.
X-ALT-DESC;FMTTYPE=text/html:Create a one of a kind fabric with drape by felting merino wool top fibers into a previously woven\, lightweight fabric. Start with a base of a variety of silk fabrics (or if you would rather\, you can use a single piece). Work to create translucent areas while outlining\, to give the finished piece a patchwork or stained glass effect. There will be a strong emphasis on color and design choices as well as fashioning a well-felted fabric that hangs softly. Some basting will be required. Learning this nuno technique is a starting point to create clothing\, pillows\, window treatments and more.
LOCATION:Adirondack Folk School 51 Main Street Lake Luzerne\, NY 12846
UID:e.2254.15260
SEQUENCE:3
DTSTAMP:20260421T092813Z
URL:https://chamber.saratoga.org/events/details/nuno-patchwork-scarf-with-carol-ingram-988-0612-06-12-2016-15260
END:VEVENT

END:VCALENDAR
