BEGIN:VCALENDAR
VERSION:2.0
PRODID:-//ChamberMaster//Event Calendar 2.0//EN
METHOD:PUBLISH
X-PUBLISHED-TTL:P3D
REFRESH-INTERVAL:P3D
CALSCALE:GREGORIAN
BEGIN:VEVENT
DTSTART;VALUE=DATE:20160626
DTEND;VALUE=DATE:20160627
TRANSP:TRANSPARENT
X-MICROSOFT-CDO-ALLDAYEVENT:TRUE
SUMMARY:Northeast Kidney Foundation Run or Walk
DESCRIPTION:Albany Walk/5K/10K for Kidneys. 5K/10K check in time is at 8AM and the race starts at 9AM. Walk registration time begins at 9:30 AM and the walk starts at 11 AM. 5K registration fee is $20 in advanced and $25 the day of the event. There is no fee for walking. Register online at healthykidneys.org. Enjoy family fun\, entertainment\, refreshments\, and more\, all while making a difference for those affected by kidney disease and organ donation.
X-ALT-DESC;FMTTYPE=text/html:Albany Walk/5K/10K for Kidneys. 5K/10K check in time is at 8AM and the race starts at 9AM. Walk registration time begins at 9:30 AM and the walk starts at 11 AM. 5K registration fee is $20 in advanced and $25 the day of the event. There is no fee for walking. Register online at healthykidneys.org. Enjoy family fun\, entertainment\, refreshments\, and more\, all while making a difference for those affected by kidney disease and organ donation.
LOCATION:SUNY Albany
UID:e.2254.13557
SEQUENCE:3
DTSTAMP:20260421T080640Z
URL:https://chamber.saratoga.org/events/details/northeast-kidney-foundation-run-or-walk-06-26-2016-13557
END:VEVENT

END:VCALENDAR
