BEGIN:VCALENDAR
VERSION:2.0
PRODID:-//ChamberMaster//Event Calendar 2.0//EN
METHOD:PUBLISH
X-PUBLISHED-TTL:P3D
REFRESH-INTERVAL:P3D
CALSCALE:GREGORIAN
BEGIN:VEVENT
DTSTART:20160305T190000Z
DTEND:20160305T210000Z
X-MICROSOFT-CDO-ALLDAYEVENT:FALSE
SUMMARY:Northeast Kidney Foundation 16th Annual Jody B. Herrington Bowling Benefits
DESCRIPTION:The Northeast Kidney Foundation is hosting the Jody B Herrington Bowling Benefits Town and Country Lanes on March 5th from 2-4pm ONLY $15 for frees shoes\, Music\, Cake\, 50/50 and lots of Fun!!! If you have any questions and reservations call 482-9354
X-ALT-DESC;FMTTYPE=text/html:The Northeast Kidney Foundation is hosting the Jody B Herrington Bowling Benefits Town and Country Lanes on March 5th from 2-4pm ONLY $15 for frees shoes\, Music\, Cake\, 50/50 and lots of Fun!!! If you have any questions and reservations call 482-9354
LOCATION:Town and Country Lanes Guilderland\, NY
UID:e.2254.13560
SEQUENCE:3
DTSTAMP:20260422T003623Z
URL:https://chamber.saratoga.org/events/details/northeast-kidney-foundation-16th-annual-jody-b-herrington-bowling-benefits-03-05-2016-13560
END:VEVENT

END:VCALENDAR
