BEGIN:VCALENDAR
VERSION:2.0
PRODID:-//ChamberMaster//Event Calendar 2.0//EN
METHOD:PUBLISH
X-PUBLISHED-TTL:P3D
REFRESH-INTERVAL:P3D
CALSCALE:GREGORIAN
BEGIN:VEVENT
DTSTART:20160626T130000Z
DTEND:20160626T190000Z
X-MICROSOFT-CDO-ALLDAYEVENT:FALSE
SUMMARY:Northeast Kidney Foundation 13th Annual 5k/10k Walk or Run for Kidneys!
DESCRIPTION:Come out for the 13th Annual Albany Walk 5k/10k Walk or Run at SUNY Albany! Enjoy family fun and a vendor market place featuring yoga\, massages\, and more. The event will also feature a Paint n Sip class\, live entertainment by Yankee Holler\, and food and beverages by Druthers Brewing Company! Please register at Healthykidneys.org. For more information\, call 518-533-7880.
X-ALT-DESC;FMTTYPE=text/html:Come out for the 13th Annual Albany Walk 5k/10k Walk or Run at SUNY Albany! Enjoy family fun and a vendor market place featuring yoga\, massages\, and more. The event will also feature a Paint n Sip class\, live entertainment by Yankee Holler\, and food and beverages by Druthers Brewing Company! Please register at Healthykidneys.org. For more information\, call 518-533-7880.
LOCATION:SUNY Albany - Collins Circle
UID:e.2254.16857
SEQUENCE:3
DTSTAMP:20260421T080857Z
URL:https://chamber.saratoga.org/events/details/northeast-kidney-foundation-13th-annual-5k-10k-walk-or-run-for-kidneys-06-26-2016-16857
END:VEVENT

END:VCALENDAR
