BEGIN:VCALENDAR
VERSION:2.0
PRODID:-//ChamberMaster//Event Calendar 2.0//EN
METHOD:PUBLISH
X-PUBLISHED-TTL:P3D
REFRESH-INTERVAL:P3D
CALSCALE:GREGORIAN
BEGIN:VEVENT
DTSTART:20150811T160000Z
DTEND:20150811T170000Z
X-MICROSOFT-CDO-ALLDAYEVENT:FALSE
SUMMARY:Noontime August Music Series: Today's Program: Rich Bala with songs of the Hudson Valley
DESCRIPTION:The track is closed but music echoes through the Hudson River Valley. Bring a bag lunch and enjoy the views while listening to concerts at noon every Tuesday. Sponsored by Friends of Saratoga Battlefield.\n\nToday's Program: Rich Bala with songs of the Hudson Valley
X-ALT-DESC;FMTTYPE=text/html:The track is closed but music echoes through the Hudson River Valley. Bring a bag lunch and enjoy the views while listening to concerts at noon every Tuesday. Sponsored by Friends of Saratoga Battlefield.<br />\n<span style="font-family: &quot\;Times New Roman&quot\;\,&quot\;serif&quot\;\; font-size: 12pt\; mso-fareast-font-family: Calibri\; mso-fareast-theme-font: minor-latin\; mso-ansi-language: EN-US\; mso-fareast-language: EN-US\; mso-bidi-language: AR-SA\;"><font color="#000000">Today&#39\;s Program: Rich Bala with songs of the Hudson Valley</font></span>
LOCATION:Battlefield Visitor Center Saratoga National Historical Park
UID:e.2254.6188
SEQUENCE:3
DTSTAMP:20260423T024206Z
URL:https://chamber.saratoga.org/events/details/noontime-august-music-series-today-s-program-rich-bala-with-songs-of-the-hudson-valley-08-11-2015-6188
END:VEVENT

END:VCALENDAR
