BEGIN:VCALENDAR
VERSION:2.0
PRODID:-//ChamberMaster//Event Calendar 2.0//EN
METHOD:PUBLISH
X-PUBLISHED-TTL:P3D
REFRESH-INTERVAL:P3D
CALSCALE:GREGORIAN
BEGIN:VEVENT
DTSTART:20150818T160000Z
DTEND:20150818T170000Z
X-MICROSOFT-CDO-ALLDAYEVENT:FALSE
SUMMARY:Noontime August Music Series
DESCRIPTION:The track is closed but music echoes through the Hudson River Valley. Bring a bag lunch and enjoy the views while listening to concerts at noon every Tuesday. Sponsored by Friends of Saratoga Battlefield. Today's program: Tom Akstens and Neil Rossi with folk music of the Adirondacks
X-ALT-DESC;FMTTYPE=text/html:The track is closed but music echoes through the Hudson River Valley. Bring a bag lunch and enjoy the views while listening to concerts at noon every Tuesday. Sponsored by Friends of Saratoga Battlefield. Today&#39\;s program: Tom Akstens and Neil Rossi with folk music of the Adirondacks
LOCATION:Battlefield Visitor Center Saratoga National Historical Park
UID:e.2254.6189
SEQUENCE:3
DTSTAMP:20260423T023905Z
URL:https://chamber.saratoga.org/events/details/noontime-august-music-series-08-18-2015-6189
END:VEVENT

END:VCALENDAR
