BEGIN:VCALENDAR
VERSION:2.0
PRODID:-//ChamberMaster//Event Calendar 2.0//EN
METHOD:PUBLISH
X-PUBLISHED-TTL:P3D
REFRESH-INTERVAL:P3D
CALSCALE:GREGORIAN
BEGIN:VEVENT
DTSTART:20150811T233000Z
DTEND:20150812T030000Z
X-MICROSOFT-CDO-ALLDAYEVENT:FALSE
SUMMARY:Nickleback: No Fixed Address Tour
DESCRIPTION:NIckleback with Lifehouse\n\nwww.livenation.com
X-ALT-DESC;FMTTYPE=text/html:NIckleback with Lifehouse<br />\nwww.livenation.com
LOCATION:Saratoga Performing Arts Center 108 Avenue of the Pines Saratoga Springs NY 12866
UID:e.2254.8724
SEQUENCE:3
DTSTAMP:20260423T022313Z
URL:https://chamber.saratoga.org/events/details/nickleback-no-fixed-address-tour-08-11-2015-8724
END:VEVENT

END:VCALENDAR
