BEGIN:VCALENDAR
VERSION:2.0
PRODID:-//ChamberMaster//Event Calendar 2.0//EN
METHOD:PUBLISH
X-PUBLISHED-TTL:P3D
REFRESH-INTERVAL:P3D
CALSCALE:GREGORIAN
BEGIN:VEVENT
DTSTART:20150607T170000Z
DTEND:20150607T190000Z
X-MICROSOFT-CDO-ALLDAYEVENT:FALSE
SUMMARY:New York Corks
DESCRIPTION:On Sunday June 7th\, 2015 from 1:00pm - 3:00pm Boca Bistro\, a DZ Restaurant\, will be hosting a Wine & Food Tasting event called "New York Corks". The event will be priced at $10 per person with all proceeds going to benefit Ainsley's Angels of America: "Power to Push" Run Across America.
X-ALT-DESC;FMTTYPE=text/html:On Sunday June 7th\, 2015 from 1:00pm - 3:00pm Boca Bistro\, a DZ Restaurant\, will be hosting a Wine &amp\; Food Tasting event called &quot\;New York Corks&quot\;. The event will be priced at $10 per person with all proceeds going to benefit Ainsley&#39\;s Angels of America: &quot\;Power to Push&quot\; Run Across America.
LOCATION:Boca Bistro 384 Broadway\, Saratoga Springs
UID:e.2254.8334
SEQUENCE:3
DTSTAMP:20260423T072009Z
URL:https://chamber.saratoga.org/events/details/new-york-corks-06-07-2015-8334
END:VEVENT

END:VCALENDAR
