BEGIN:VCALENDAR
VERSION:2.0
PRODID:-//ChamberMaster//Event Calendar 2.0//EN
METHOD:PUBLISH
X-PUBLISHED-TTL:P3D
REFRESH-INTERVAL:P3D
CALSCALE:GREGORIAN
BEGIN:VEVENT
DTSTART:20170101T003000Z
DTEND:20170101T053000Z
X-MICROSOFT-CDO-ALLDAYEVENT:FALSE
SUMMARY:New Year's Eve Bash
DESCRIPTION:Ring in the New Year at Longfellows!  Join us for Cocktail Hour with Hors D' Oeuvres followed by a Plated Dinner\, 4-hour open bar (cash for mixed drinks) and DJ entertainment all for only $205 per couple\, plus tax & gratuity.  Special rate of $405 for overnight accommodations at Longfellows Hotel.  Reservations\, required with payment at time of reservation\, can be made by calling 518-
X-ALT-DESC;FMTTYPE=text/html:Ring in the New Year at Longfellows!&nbsp\; Join us for Cocktail Hour with Hors D&#39\; Oeuvres followed by a Plated Dinner\, 4-hour open bar (cash for mixed drinks) and DJ entertainment all for only $205 per couple\, plus tax &amp\; gratuity.&nbsp\; Special rate of $405 for overnight accommodations at Longfellows Hotel.&nbsp\; Reservations\, required with payment at time of reservation\, can be made by calling 518-
LOCATION:Longfellows Restaurant
UID:e.2254.21306
SEQUENCE:3
DTSTAMP:20260420T150339Z
URL:https://chamber.saratoga.org/events/details/new-year-s-eve-bash-21306
END:VEVENT

END:VCALENDAR
