BEGIN:VCALENDAR
VERSION:2.0
PRODID:-//ChamberMaster//Event Calendar 2.0//EN
METHOD:PUBLISH
X-PUBLISHED-TTL:P3D
REFRESH-INTERVAL:P3D
CALSCALE:GREGORIAN
BEGIN:VEVENT
DTSTART:20161231T210000Z
DTEND:20170101T030000Z
X-MICROSOFT-CDO-ALLDAYEVENT:FALSE
SUMMARY:New Year's Eve
DESCRIPTION:Join us for a New Year's Eve you won't forget! To help you ring in the New Year\, Campagna has pulled out all the stops and is featuring a stunning special menu. Enjoy champagne\, some delicious food and dance the night away while you listen to the soothing sounds of Russ Kennedy. Russ's rich vocals and unique guitar style are his trademark sounds. In his 30+ years of performing\, Russ has played with music legends like DION\, Don McLean\, folk duo Aztec Two Step and Mick Avory of the Kinks. You won't want to miss him in this one of a kind intimate setting. Our special menu is available from 4 pm until 10:00pm by reservation only so book early! You'll be thrilled to have started your evening at Campagna\, and ended 2016 in style. We can't wait to see you.
X-ALT-DESC;FMTTYPE=text/html:Join us for a New Year&rsquo\;s Eve you won&rsquo\;t forget! To help you ring in the New Year\, Campagna has pulled out all the stops and is featuring a stunning special menu. Enjoy champagne\, some delicious food and dance the night away while you listen to the soothing sounds of Russ Kennedy. Russ&rsquo\;s rich vocals and unique guitar style are his trademark sounds. In his 30+ years of performing\, Russ has played with music legends like DION\, Don McLean\, folk duo Aztec Two Step and Mick Avory of the Kinks. You won&rsquo\;t want to miss him in this one of a kind intimate setting. Our special menu is available from 4 pm until 10:00pm by reservation only so book early! You&rsquo\;ll be thrilled to have started your evening at Campagna\, and ended 2016 in style. We can&rsquo\;t wait to see you.
LOCATION:Campagna Restaurant 2452 State Route 9 Malta\, New York 12020
UID:e.2254.21309
SEQUENCE:3
DTSTAMP:20260420T183820Z
URL:https://chamber.saratoga.org/events/details/new-year-s-eve-21309
END:VEVENT

END:VCALENDAR
