BEGIN:VCALENDAR
VERSION:2.0
PRODID:-//ChamberMaster//Event Calendar 2.0//EN
METHOD:PUBLISH
X-PUBLISHED-TTL:P3D
REFRESH-INTERVAL:P3D
CALSCALE:GREGORIAN
BEGIN:VEVENT
DTSTART:20160921T220000Z
DTEND:20160921T230000Z
X-MICROSOFT-CDO-ALLDAYEVENT:FALSE
SUMMARY:New Volunteer Orientation
DESCRIPTION:This is for you if you have always wanted to learn more about what goes on at Wilton Wildlife Preserve & Park or have been thinking about volunteering! There will be a brief presentation on the history of the organization and work that we do in the areas of conservation\, environmental education\, and outdoor recreation. There will be a question and answer time and refreshments.
X-ALT-DESC;FMTTYPE=text/html:This is for you if you have always wanted to learn more about what goes on at Wilton Wildlife Preserve &amp\; Park or have been thinking about volunteering! There will be a brief presentation on the history of the organization and work that we do in the areas of conservation\, environmental education\, and outdoor recreation. There will be a question and answer time and refreshments.
LOCATION:Wilton Wildlife Preserve and Park Office\, 80 Scout Road\, Gansevoort\, NY 12831
UID:e.2254.19534
SEQUENCE:3
DTSTAMP:20260421T005235Z
URL:https://chamber.saratoga.org/events/details/new-volunteer-orientation-19534
END:VEVENT

END:VCALENDAR
