BEGIN:VCALENDAR
VERSION:2.0
PRODID:-//ChamberMaster//Event Calendar 2.0//EN
METHOD:PUBLISH
X-PUBLISHED-TTL:P3D
REFRESH-INTERVAL:P3D
CALSCALE:GREGORIAN
BEGIN:VEVENT
DTSTART:20140924T110000Z
DTEND:20140924T120000Z
X-MICROSOFT-CDO-ALLDAYEVENT:FALSE
SUMMARY:New Member Orientation
DESCRIPTION:Join Chamber President Todd Shimkus for a discussion on how you can maximize your investmentWhether you are a new member who just joined the Saratoga County Chamber\, or an existing one looking for a refresher\, you are invited to join President Todd Shimkus for a discussion on how you can maximize your Chamber investment. You are invited to participate in a informal discussion on the opportunities and benefits that are available to you and your business through your investment. Although this event is complimentary\, pre-registration is appreciated.
X-ALT-DESC;FMTTYPE=text/html:<p>Join Chamber President Todd Shimkus for a discussion on how you can maximize your investment</p><p><span style="font-size: 7.5pt\; font-family: 'Verdana'\,'sans-serif'\; color: black\;">Whether you are a new member who just joined the Saratoga County Chamber\, or an existing one looking for a refresher\, you are invited to join President Todd Shimkus for a discussion on how you can maximize your Chamber investment. You are invited to participate in a informal discussion on the opportunities and benefits that are available to you and your business through your investment.&nbsp\;Although this event is complimentary\, pre-registration is appreciated.</span></p>
LOCATION:Saratoga County Chamber Offices
UID:e.2254.454
SEQUENCE:3
DTSTAMP:20260424T125627Z
URL:https://chamber.saratoga.org/events/details/new-member-orientation-09-24-2014-454
END:VEVENT

END:VCALENDAR
