BEGIN:VCALENDAR
VERSION:2.0
PRODID:-//ChamberMaster//Event Calendar 2.0//EN
METHOD:PUBLISH
X-PUBLISHED-TTL:P3D
REFRESH-INTERVAL:P3D
CALSCALE:GREGORIAN
BEGIN:VEVENT
DTSTART:20150621T140000Z
DTEND:20151121T210000Z
X-MICROSOFT-CDO-ALLDAYEVENT:FALSE
SUMMARY:New Exhibit: The British Are Coming!!
DESCRIPTION:In the years immediately after World War II\, and well before the Volkswagen Beetle\, the British auto industry really invented exporting to the U.S. This exhibit looks at cars both high and low\, from the historic Bentleys of 1930's Le Mans fame to the cheap\, cheerful MGB that was the world's most successful sports car. It will cover not only England's enduring legacy on wheels--sports cars from MG\, Triumph\, Austin-Healey\, Sunbeam\, and others--but also a few of the small\, simple sedans that sold in volume during the Fifties and Sixties. And it will discuss how and why the British auto industry imploded in the decades from 1968 to 1998\, when exports to the U.S. fell to a handful of luxury models: most notably Jaguar and Range Rover. Cars from the new century play a role too: With BMW's revival of the Mini Cooper in 2002\, a British icon returned to the States. Now\, with a new Jaguar XE sedan on the way\, we may again see a British car resurgence. A notable part of the show will be the sports cars that defined British motoring to generations of Americans\, from the first MG TC through the last Triumph TR8. We'll include a few now-forgotten Austin's and Morrise's to show the other side of the industry\, and we'll look at some of the failures\, too. The show will appeal both to those who appreciate the finest and most classic automobiles and the millions of Americans who once owned\, drove\, or remember the great British sports cars of the last century.
X-ALT-DESC;FMTTYPE=text/html:<span style="color: rgb(10\, 10\, 10)\; font-family: lexia\; font-size: 13px\; background-color: rgb(255\, 255\, 255)\;">In the years immediately after World War II\, and well before the Volkswagen Beetle\, the British auto industry really invented exporting to the U.S. This exhibit looks at cars both high and low\, from the historic Bentleys of 1930&#39\;s Le Mans fame to the cheap\, cheerful MGB that was the world&#39\;s most successful sports car. It will cover not only England&#39\;s enduring legacy on wheels--sports cars from MG\, Triumph\, Austin-Healey\, Sunbeam\, and others--but also a few of the small\, simple sedans that sold in volume during the Fifties and Sixties. And it will discuss how and why the British auto industry imploded in the decades from 1968 to 1998\, when exports to the U.S. fell to a handful of luxury models: most notably Jaguar and Range Rover. Cars from the new century play a role too: With BMW&#39\;s revival of the Mini Cooper in 2002\, a British icon returned to the States. Now\, with a new Jaguar XE sedan on the way\, we may again see a British car resurgence. A notable part of the show will be the sports cars that defined British motoring to generations of Americans\, from the first MG TC through the last Triumph TR8. We&#39\;ll include a few now-forgotten Austin&#39\;s and Morrise&#39\;s to show the other side of the industry\, and we&#39\;ll look at some of the failures\, too. The show will appeal both to those who appreciate the finest and most classic automobiles and the millions of Americans who once owned\, drove\, or remember the great British sports cars of the last century.</span>
LOCATION:Saratoga Auto Museum\, 110 Avenue of the Pines Saratoga Springs\, NY 12866
UID:e.2254.6930
SEQUENCE:3
DTSTAMP:20260422T103336Z
URL:https://chamber.saratoga.org/events/details/new-exhibit-the-british-are-coming-06-21-2015-6930
END:VEVENT

END:VCALENDAR
