BEGIN:VCALENDAR
VERSION:2.0
PRODID:-//ChamberMaster//Event Calendar 2.0//EN
METHOD:PUBLISH
X-PUBLISHED-TTL:P3D
REFRESH-INTERVAL:P3D
CALSCALE:GREGORIAN
BEGIN:VEVENT
DTSTART:20160315T113000Z
DTEND:20160315T130000Z
X-MICROSOFT-CDO-ALLDAYEVENT:FALSE
SUMMARY:Networking Breakfast Discussion featuring Michael Brown and Patrick Pipino
DESCRIPTION:The Saratoga County Chamber will feature Michael Brown from Death Wish Coffee and Pat Pipino from Ben & Jerry's at the March Networking Breakfast.\n\n\n\nRecently\, Death Wish Coffee won a national competition amongst small businesses for a commercial during the third quarter of the Super Bowl. Pat Pipino went viral on social media and news outlets in 24 hours due to a letter that he wrote to his kid's teacher explaining that they were tardy due to the Bruce Springsteen concert the night before. Both instances brought a great deal of attention to Saratoga County!\n\n\n\nYou will have the opportunity to hear more about their experience\, as well as learn how you can become a social media rock star!
X-ALT-DESC;FMTTYPE=text/html:The Saratoga County Chamber will feature Michael Brown from Death Wish Coffee and Pat Pipino from Ben &amp\; Jerry&#39\;s at the March Networking Breakfast.<br />\n<br />\nRecently\, Death Wish Coffee won a national competition amongst small businesses for a commercial during the third quarter of the Super Bowl. Pat Pipino&nbsp\;went viral on social media and news outlets in 24 hours due to a letter that he wrote to his kid&#39\;s teacher explaining that they were tardy due to the Bruce Springsteen concert the night before. Both instances brought a great deal of attention to Saratoga County!<br />\n<br />\nYou will have the opportunity to hear more about their experience\, as well as learn how you can become a social media rock star!
LOCATION:Holiday Inn Saratoga Springs 232 Broadway\, Saratoga Springs
UID:e.2254.14930
SEQUENCE:3
DTSTAMP:20260422T003323Z
URL:https://chamber.saratoga.org/events/details/networking-breakfast-discussion-featuring-michael-brown-and-patrick-pipino-03-15-2016-14930
END:VEVENT

END:VCALENDAR
