BEGIN:VCALENDAR
VERSION:2.0
PRODID:-//ChamberMaster//Event Calendar 2.0//EN
METHOD:PUBLISH
X-PUBLISHED-TTL:P3D
REFRESH-INTERVAL:P3D
CALSCALE:GREGORIAN
BEGIN:VEVENT
DTSTART:20161203T150000Z
DTEND:20161203T210000Z
X-MICROSOFT-CDO-ALLDAYEVENT:FALSE
SUMMARY:Net Making Workshop with Barry Keegan. #932-1203.
DESCRIPTION:Netting is a tradition that goes back over 5\,000 years. Notched stone net sinkers are not uncommon artifacts found in New York\, and around large bodies of water in the Adirondacks. There are numerous historical references to seasonal fishing camps of Native Americans in the Adirondacks. Typically\, before Europeans arrived\, nets were made mostly from one plant\, Dogbane\, chosen for its strength and high resistance to decay. This plant is still common today in the Adirondacks. Though we will make our nets from supplied twine of natural fiber\, we will also learn how to process Dogbane fibers to make some twine from it to include in our nets. Students can choose to either make a small section of a net (as much as one can make in a day)\, and attach traditional but miniature stone net sinkers and wooden floats-as was done over thousands of years\, or with a small adjustment\, make their net into a net bag with a draw string closure. All materials supplied.
X-ALT-DESC;FMTTYPE=text/html:<pre>\n<span style="color:black"><span style="font-family:arial\,sans-serif"><span style="font-size:12.0pt">Netting is a tradition that goes back over 5\,000 years. Notched stone net sinkers are not uncommon artifacts found in New York\, and around large bodies of water in the Adirondacks. There are numerous historical references to seasonal fishing camps of Native Americans in the Adirondacks. Typically\, before Europeans arrived\, nets were made mostly from one plant\, Dogbane\, chosen for its strength and high resistance to decay. This plant is still common today in the Adirondacks. Though we will make our nets from supplied twine of natural fiber\, we will also learn how to process Dogbane fibers to make some twine from it to include in our nets. Students can choose to either make a small section of a net (as much as one can make in a day)\, and attach traditional but miniature stone net sinkers and wooden floats-as was done over thousands of years\, or with a small adjustment\, make their net into a net bag with a draw string closure. All materials supplied.</span></span></span></pre>\n
LOCATION:Adirondack Folk School 51 Main Street Lake Luzerne\, NY 12846
UID:e.2254.19484
SEQUENCE:3
DTSTAMP:20260420T183905Z
URL:https://chamber.saratoga.org/events/details/net-making-workshop-with-barry-keegan-932-1203-19484
END:VEVENT

END:VCALENDAR
