BEGIN:VCALENDAR
VERSION:2.0
PRODID:-//ChamberMaster//Event Calendar 2.0//EN
METHOD:PUBLISH
X-PUBLISHED-TTL:P3D
REFRESH-INTERVAL:P3D
CALSCALE:GREGORIAN
BEGIN:VEVENT
DTSTART:20170121T140000Z
DTEND:20170121T180000Z
X-MICROSOFT-CDO-ALLDAYEVENT:FALSE
SUMMARY:Needle Felted Snowman with Leslie Scarborough. #1001-0121. 1/2 Day
DESCRIPTION:Needle felting is the process of using a barbed needle to interlock wool fibers to form a dense material. Students will make a lovely whimsical snowman\, perfect for the holidays or as a winter decoration. Basic needle felting techniques will be discussed and taught. Beginner level. No prior experience is required.\n\n\nNOTE:  If students bring their own felting pad\, the materials fee will be $7.00.
X-ALT-DESC;FMTTYPE=text/html:<pre>\n<span style="font-size:12pt"><span style="font-family:arial\,sans-serif"><span style="color:black">Needle felting is the process of using a barbed needle to interlock wool fibers to form a dense material. Students will make a lovely whimsical snowman\, perfect for the holidays or as a winter decoration. Basic needle felting techniques will be discussed and taught. Beginner level. No prior experience is required.</span></span></span></pre>\n\n<pre>\n<strong><span style="font-size:12pt"><span style="font-family:arial\,sans-serif"><span style="color:black">NOTE:&nbsp\; If students bring their own felting pad\, the materials fee will be $7.00.</span></span></span></strong></pre>\n
LOCATION:Adirondack Folk School 51 Main Street Lake Luzerne\, NY 12846
UID:e.2254.21749
SEQUENCE:3
DTSTAMP:20260420T153349Z
URL:https://chamber.saratoga.org/events/details/needle-felted-snowman-with-leslie-scarborough-1001-0121-1-2-day-21749
END:VEVENT

END:VCALENDAR
