BEGIN:VCALENDAR
VERSION:2.0
PRODID:-//ChamberMaster//Event Calendar 2.0//EN
METHOD:PUBLISH
X-PUBLISHED-TTL:P3D
REFRESH-INTERVAL:P3D
CALSCALE:GREGORIAN
BEGIN:VEVENT
DTSTART:20160905T160000Z
DTEND:20160905T210000Z
X-MICROSOFT-CDO-ALLDAYEVENT:FALSE
SUMMARY:Navy Band Northeast Ceremonial Band & Rhode Island Sound Rock Band
DESCRIPTION:The Saratoga County Veterans Peer Connection program and the Saratoga County Board of Supervisors are proud to present a FREE Labor Day Concert on at 2pm on September 5\, 2016\, at SPAC.\n\nThe Navy Band Northeast Ceremonial Band proudly performs concerts highlighting musical selections meant to inspire patriotism and entertain audiences of all ages.\n\nThe concert will also feature The Navy Band Northeast's rock and roll band\, The Rhode Island Sound. Rhode Island Sound plays everything from classic rock to today's Top 40 hits.\n\nTickets are FREE and available now at all Saratoga County Stewart's locations and all Town Halls within Saratoga County.\n\nNavy Band Northeast ensembles tour an 11-state areas and perform over 300 engagements annually\, personifying the quality and professionalism of today's Navy and instilling pride and patriotism during each and every performance. The concerts are family-friendly events\, meant to be entertaining to veterans\, families\, individuals\, and those interested in joining the Navy.\n\nBring a blanket\, a picnic\, and the family for a great day of music!\n\nGates open at Noon. Concert begins at 2 pm on Labor Day at Saratoga Performing Arts Center.\n\nFor More Information Visit:\n\nhttp://www.veteranspeertopeer.org/event/navy-band-northeast-ceremonial-band-rhode-island-sound-rock-band
X-ALT-DESC;FMTTYPE=text/html:<p style="box-sizing: border-box\; padding: 0px\; margin: 0px 0px 1.8em\; border: 0px\; font-stretch: inherit\; font-size: 13px\; line-height: 24px\; font-family: latoregular\, Arial\, Helvetica\, sans-serif\; vertical-align: baseline\; color: rgb(51\, 51\, 51)\; background-color: rgb(255\, 255\, 255)\;">The Saratoga County Veterans Peer Connection program and the Saratoga County Board of Supervisors are proud to present a FREE Labor Day Concert on at 2pm on September 5\, 2016\, at SPAC.</p>\n\n<p style="box-sizing: border-box\; padding: 0px\; margin: 0px 0px 1.8em\; border: 0px\; font-stretch: inherit\; font-size: 13px\; line-height: 24px\; font-family: latoregular\, Arial\, Helvetica\, sans-serif\; vertical-align: baseline\; color: rgb(51\, 51\, 51)\; background-color: rgb(255\, 255\, 255)\;">The Navy Band Northeast Ceremonial Band proudly performs concerts highlighting musical selections meant to inspire patriotism and entertain audiences of all ages.</p>\n\n<p style="box-sizing: border-box\; padding: 0px\; margin: 0px 0px 1.8em\; border: 0px\; font-stretch: inherit\; font-size: 13px\; line-height: 24px\; font-family: latoregular\, Arial\, Helvetica\, sans-serif\; vertical-align: baseline\; color: rgb(51\, 51\, 51)\; background-color: rgb(255\, 255\, 255)\;">The concert will also feature The Navy Band Northeast&#39\;s rock and roll band\, The Rhode Island Sound. Rhode Island Sound plays everything from classic rock to today&#39\;s Top 40 hits.</p>\n\n<p style="box-sizing: border-box\; padding: 0px\; margin: 0px 0px 1.8em\; border: 0px\; font-stretch: inherit\; font-size: 13px\; line-height: 24px\; font-family: latoregular\, Arial\, Helvetica\, sans-serif\; vertical-align: baseline\; color: rgb(51\, 51\, 51)\; background-color: rgb(255\, 255\, 255)\;"><span style="box-sizing: border-box\; padding: 0px\; margin: 0px\; border: 0px\; font-style: inherit\; font-variant: inherit\; font-stretch: inherit\; font-size: inherit\; line-height: inherit\; font-family: latobold\, Arial\, Helvetica\, sans-serif\; vertical-align: baseline\; color: rgb(37\, 37\, 37)\;">Tickets are FREE and available now at all Saratoga County Stewart&#39\;s locations and all Town Halls within Saratoga County.</span></p>\n\n<p style="box-sizing: border-box\; padding: 0px\; margin: 0px 0px 1.8em\; border: 0px\; font-stretch: inherit\; font-size: 13px\; line-height: 24px\; font-family: latoregular\, Arial\, Helvetica\, sans-serif\; vertical-align: baseline\; color: rgb(51\, 51\, 51)\; background-color: rgb(255\, 255\, 255)\;">Navy Band Northeast ensembles tour an 11-state areas and perform over 300 engagements annually\, personifying the quality and professionalism of today&#39\;s Navy and instilling pride and patriotism during each and every performance. The concerts are family-friendly events\, meant to be entertaining to veterans\, families\, individuals\, and those interested in joining the Navy.</p>\n\n<p style="box-sizing: border-box\; padding: 0px\; margin: 0px 0px 1.8em\; border: 0px\; font-stretch: inherit\; font-size: 13px\; line-height: 24px\; font-family: latoregular\, Arial\, Helvetica\, sans-serif\; vertical-align: baseline\; color: rgb(51\, 51\, 51)\; background-color: rgb(255\, 255\, 255)\;">Bring a blanket\, a picnic\, and the family for a great day of music!</p>\n\n<p style="box-sizing: border-box\; padding: 0px\; margin: 0px 0px 1.8em\; border: 0px\; font-stretch: inherit\; font-size: 13px\; line-height: 24px\; font-family: latoregular\, Arial\, Helvetica\, sans-serif\; vertical-align: baseline\; color: rgb(51\, 51\, 51)\; background-color: rgb(255\, 255\, 255)\;">Gates open at Noon. Concert begins at 2 pm on Labor Day at Saratoga Performing Arts Center.</p>\n\n<h3 style="box-sizing: border-box\; padding: 0px 0px 10px\; margin: 35px 0px 10px\; border-width: 0px 0px 1px\; border-bottom-style: solid\; border-bottom-color: rgb(227\, 227\, 227)\; font-weight: normal\; font-stretch: inherit\; font-size: 17px\; line-height: 1.2em\; font-family: latobold\, Arial\, Helvetica\, sans-serif\; vertical-align: baseline\; color: rgb(29\, 76\, 123)\; background-color: rgb(255\, 255\, 255)\;">For More Information Visit:</h3>\n\n<p style="box-sizing: border-box\; padding: 0px\; margin: 0px 0px 1.8em\; border: 0px\; font-stretch: inherit\; font-size: 13px\; line-height: 24px\; font-family: latoregular\, Arial\, Helvetica\, sans-serif\; vertical-align: baseline\; color: rgb(51\, 51\, 51)\; background-color: rgb(255\, 255\, 255)\;"><a href="http://www.veteranspeertopeer.org/event/navy-band-northeast-ceremonial-band-rhode-island-sound-rock-band" style="box-sizing: border-box\; padding: 0px\; margin: 0px\; border: 0px\; font-style: inherit\; font-variant: inherit\; font-weight: inherit\; font-stretch: inherit\; font-size: inherit\; line-height: inherit\; font-family: latobold\, Arial\, Helvetica\, sans-serif\; vertical-align: baseline\; color: rgb(21\, 69\, 121)\; text-decoration: none\; transition: color 0.2s ease-in-out\; outline: none\;" target="_blank">http://www.veteranspeertopeer.org/event/navy-band-northeast-ceremonial-band-rhode-island-sound-rock-band</a></p>\n
LOCATION:
UID:e.2254.17341
SEQUENCE:3
DTSTAMP:20260420T232441Z
URL:https://chamber.saratoga.org/events/details/navy-band-northeast-ceremonial-band-rhode-island-sound-rock-band-09-05-2016-17341
END:VEVENT

END:VCALENDAR
