BEGIN:VCALENDAR
VERSION:2.0
PRODID:-//ChamberMaster//Event Calendar 2.0//EN
METHOD:PUBLISH
X-PUBLISHED-TTL:P3D
REFRESH-INTERVAL:P3D
CALSCALE:GREGORIAN
BEGIN:VEVENT
DTSTART:20160307T163000Z
DTEND:20160307T220000Z
X-MICROSOFT-CDO-ALLDAYEVENT:FALSE
SUMMARY:Navigating the Waters of Doing Business in Europe
DESCRIPTION:At this half-day event presented by the Capital Region Chamber and ALFA International\, you will have the opportunity to hear from experts from the United Kingdom\, Belgium\, France\, Spain\, Romania\, Norway\, Germany and Italy\, all of whom are leaders in international businesses. The Forum will address a wide range of topics including bridging cultural differences with European partners\; labor and employment issues\; merger and acquisition processes\, trends and risks\; E-commerce and data protection issues and risks. Whether your company has become submerged\, or is considering testing the waters of conducting business in Europe\, you will not want to miss this Forum.\n\n \n\n	\n		\n			11:30 a.m.\n			Check-in\n		\n		\n			11:45 a.m.\n			Lunch\n		\n		\n			12 noon\n			Welcome\n		\n		\n			12:15 p.m.\n			Opening Session   Bridging Cultural Differences: Key Factors to Consider in US/EU Negotiations\n		\n		\n			1 p.m.\n			Session I   Avoiding Hidden Icebergs: Pitfalls of M&A in Europe\n		\n		\n			2:30 p.m.\n			Session II   Riding the Wave of Technology to Advance Business in the EU: Key Factors to Consider Regarding E-Commerce and Data Protection\n		\n		\n			3:45 p.m.\n			Session III   Mapping a Route Around Potential Storms: What to Consider from an Employment Perspective\n		\n		\n			4:55 p.m.\n			Closing Remarks\n		\n		\n			5 p.m.\n			Reception sponsored by Carter Conboy
X-ALT-DESC;FMTTYPE=text/html:<span style="font-family: arial\;">At this half-day event presented by the Capital Region Chamber and ALFA International\, you will have the opportunity to hear from&nbsp\;experts from the United Kingdom\, Belgium\, France\, Spain\, Romania\, Norway\, Germany and Italy\, all of whom are leaders in international businesses. The Forum will address a wide range of topics including bridging cultural differences with European partners\; labor and employment issues\; merger and acquisition processes\, trends and risks\; E-commerce and data protection issues and risks. Whether your company has become submerged\, or is considering testing the waters of conducting business in Europe\, you will not want to miss this Forum.</span><br />\n&nbsp\;\n<table border="0" cellpadding="0" cellspacing="0" style="width: 952px\; border-collapse: collapse\;">\n	<tbody>\n		<tr>\n			<td style="width: 79px\; height: 18px\;">11:30 a.m.</td>\n			<td style="width: 873px\;">Check-in</td>\n		</tr>\n		<tr>\n			<td style="height: 18px\;">11:45 a.m.</td>\n			<td>Lunch</td>\n		</tr>\n		<tr>\n			<td style="height: 18px\;">12 noon</td>\n			<td>Welcome</td>\n		</tr>\n		<tr>\n			<td style="height: 18px\;">12:15 p.m.</td>\n			<td>Opening Session &ndash\; <em>Bridging Cultural Differences: Key Factors to Consider in US/EU Negotiations</em></td>\n		</tr>\n		<tr>\n			<td style="height: 18px\;">1 p.m.</td>\n			<td>Session I &ndash\; <em>Avoiding Hidden Icebergs: Pitfalls of M&amp\;A in Europe</em></td>\n		</tr>\n		<tr>\n			<td style="height: 18px\;">2:30 p.m.</td>\n			<td>Session II &ndash\; <em>Riding the Wave of Technology to Advance Business in the EU: Key Factors to Consider Regarding E-Commerce and Data Protection</em></td>\n		</tr>\n		<tr>\n			<td style="height: 18px\;">3:45 p.m.</td>\n			<td>Session III &ndash\; <em>Mapping a Route Around Potential Storms: What to Consider from an Employment Perspective</em></td>\n		</tr>\n		<tr>\n			<td style="height: 18px\;">4:55 p.m.</td>\n			<td>Closing Remarks</td>\n		</tr>\n		<tr>\n			<td style="height: 18px\;">5 p.m.</td>\n			<td>Reception sponsored by Carter Conboy</td>\n		</tr>\n	</tbody>\n</table>\n
LOCATION:Hilton Garden Inn of Clifton Park 30 Clifton Park Road\, Clifton Park\, NY 12065
UID:e.2254.14960
SEQUENCE:3
DTSTAMP:20260422T005440Z
URL:https://chamber.saratoga.org/events/details/navigating-the-waters-of-doing-business-in-europe-03-07-2016-14960
END:VEVENT

END:VCALENDAR
