BEGIN:VCALENDAR
VERSION:2.0
PRODID:-//ChamberMaster//Event Calendar 2.0//EN
METHOD:PUBLISH
X-PUBLISHED-TTL:P3D
REFRESH-INTERVAL:P3D
CALSCALE:GREGORIAN
BEGIN:VEVENT
DTSTART:20140906T140000Z
DTEND:20140906T170000Z
X-MICROSOFT-CDO-ALLDAYEVENT:FALSE
SUMMARY:Navajo Horse Healing Project at Old Friends at Cabin Creek - 09/06/2014
DESCRIPTION:Horse blessing ceremonies performed by Navajo traditional practitioners on Sat.\, Sept. 6th at Old Friends at Cabin Creek in Greenfield Center\, NY\n\nNAVAJO HORSE HEALING PROJECT COMES TO OLD FRIENDS AT\nCABIN CREEK\n\n \n\nGreenfield Center\, NY —Old\nFriends at Cabin Creek will host The Navajo Horse Healing Project at the farm\non Saturday\, Sept. 6\, 2014 starting promptly at noon.  Traditional practitioners of Navajo\nCeremonies\, Harrison Jim Sr. and Gino Antonio will share their beautiful\nculture by performing traditional ceremonies on the rescued and retired thoroughbred\nracehorses at Old Friends at Cabin Creek. \nThis ancient ceremony promotes both emotional and physical healing in horses\nwho are considered sacred to the Navajo Nation. It has been requested that\npictures not be taken during the ceremony but are encouraged before and after\nthe event.  Guests may feel free to ask\nquestions following the ceremonies.  For\na complete listing of their itinerary in the Northeast please visit www.Indiegogo.com . \n\n \n\n \n\nOld Friends at Cabin Creek\,\nlocated at 483 Sand Hill Rd. in Greenfield Center\, NY 12833\, has been in\noperation since 2009 and is a 501c(3) non-profit organization. It is currently\na forever home to 14 retired thoroughbred racehorses including Thunder Rumble\,\nWill’s Way\, Behrens and Zippy Chippy. Donations will be gratefully accepted for\nthis special event. Guests should plan to arrive 20 minutes early\, lawn chairs\nare welcome. For more information please call JoAnn Pepper at 518-698-2377.
X-ALT-DESC;FMTTYPE=text/html:<p> Horse blessing ceremonies performed by Navajo traditional practitioners on Sat.\, Sept. 6th at Old Friends at Cabin Creek in Greenfield Center\, NY</p><font face="Times New Roman" size="3">\n\n</font><p style="margin: 0in 0in 0pt\;"><u><span style='font-family: "Verdana"\,"sans-serif"\; font-size: 16pt\; mso-bidi-font-weight: bold\;'>NAVAJO HORSE HEALING PROJECT COMES TO OLD FRIENDS AT\nCABIN CREEK</span></u></p><font face="Times New Roman" size="3">\n\n</font><p style="margin: 0in 0in 0pt\;"><span style="font-size: 12pt\;"><font face="Calibri">&nbsp\;</font></span></p><font face="Times New Roman" size="3">\n\n</font><p style="margin: 0in 0in 0pt\;"><span style="font-size: 14pt\;"><font face="Calibri">Greenfield Center\, NY —Old\nFriends at Cabin Creek will host The Navajo Horse Healing Project at the farm\non Saturday\, Sept. 6\, 2014 starting promptly at noon.<span style="mso-spacerun: yes\;">&nbsp\; </span>Traditional practitioners of Navajo\nCeremonies\, Harrison Jim Sr. and Gino Antonio will share their beautiful\nculture by performing traditional ceremonies on the rescued and retired thoroughbred\nracehorses at Old Friends at Cabin Creek.<span style="mso-spacerun: yes\;">&nbsp\;\n</span>This ancient ceremony promotes both emotional and physical healing in horses\nwho are considered sacred to the Navajo Nation. It has been requested that\npictures not be taken during the ceremony but are encouraged before and after\nthe event.<span style="mso-spacerun: yes\;">&nbsp\; </span>Guests may feel free to ask\nquestions following the ceremonies.<span style="mso-spacerun: yes\;">&nbsp\; </span>For\na complete listing of their itinerary in the Northeast please visit </font></span><a href="http://www.indiegogo.com/"><span style="font-size: 14pt\;"><font color="#0000ff" face="Calibri">www.Indiegogo.com</font></span></a><span style="font-size: 14pt\;"><font face="Calibri"> . </font></span></p><font face="Times New Roman" size="3">\n\n</font><p style="margin: 0in 0in 0pt\;"><span style="font-size: 14pt\;"><font face="Calibri">&nbsp\;</font></span></p><font face="Times New Roman" size="3">\n\n</font><p style="margin: 0in 0in 0pt\;"><span style="font-size: 14pt\;"><font face="Calibri">&nbsp\;</font></span></p><font face="Times New Roman" size="3">\n\n</font><p style="margin: 0in 0in 0pt\;"><span style="font-size: 14pt\;"><font face="Calibri">Old Friends at Cabin Creek\,\nlocated at 483 Sand Hill Rd. in Greenfield Center\, NY 12833\, has been in\noperation since 2009 and is a 501c(3) non-profit organization. It is currently\na forever home to 14 retired thoroughbred racehorses including Thunder Rumble\,\nWill’s Way\, Behrens and Zippy Chippy. Donations will be gratefully accepted for\nthis special event. Guests should plan to arrive 20 minutes early\, lawn chairs\nare welcome. For more information please call JoAnn Pepper at 518-698-2377.</font></span></p><font face="Times New Roman" size="3">\n\n</font><p style="margin: 0in 0in 0pt\;"><span style="font-size: 14pt\;"><font face="Calibri">&nbsp\;</font></span></p><font face="Times New Roman" size="3">\n\n</font>
LOCATION:Old Friends at Cabin Creek
UID:e.2254.3559
SEQUENCE:3
DTSTAMP:20260424T111227Z
URL:https://chamber.saratoga.org/events/details/navajo-horse-healing-project-at-old-friends-at-cabin-creek-09-06-2014-09-06-2014-3559
END:VEVENT

END:VCALENDAR
