BEGIN:VCALENDAR
VERSION:2.0
PRODID:-//ChamberMaster//Event Calendar 2.0//EN
METHOD:PUBLISH
X-PUBLISHED-TTL:P3D
REFRESH-INTERVAL:P3D
CALSCALE:GREGORIAN
BEGIN:VEVENT
DTSTART:20160917T140000Z
DTEND:20160917T200000Z
X-MICROSOFT-CDO-ALLDAYEVENT:FALSE
SUMMARY:NatureFest-Moreau Lake State Park
DESCRIPTION:NatureFest\, September 17\, 10-4 at Moreau Lake State Park. Free fun-filled family day of interactive nature related activities\, raptor birds\, insects\, and reptiles. Fun crafts and activities for the kids like birdhouse building\, face painting\, pumpkin painting and much more. There will also be nature related educational booths\, representatives from local parks\, rescue organizations and wagon rides. Food is available that day as well as silent auction and tours of the nature center. All donations collected will go to The Friends of Moreau Lake (non-profit). The Friends of Moreau Lake support the Moreau Lake Nature Center\, environmental education classes as well as offering crafts and special events for the park. We are working toward being a Zero-Waste event so bring your reusable water bottle and get a free pin or magnet!
X-ALT-DESC;FMTTYPE=text/html:NatureFest\, September 17\, 10-4 at Moreau Lake State Park. Free fun-filled family day of interactive nature related activities\, raptor birds\, insects\, and reptiles. Fun crafts and activities for the kids like birdhouse building\, face painting\, pumpkin painting and much more. There will also be nature related educational booths\, representatives from local parks\, rescue organizations and wagon rides. Food is available that day as well as silent auction and tours of the nature center. All donations collected will go to The Friends of Moreau Lake (non-profit). The Friends of Moreau Lake support the Moreau Lake Nature Center\, environmental education classes as well as offering crafts and special events for the park. We are working toward being a Zero-Waste event so bring your reusable water bottle and get a free pin or magnet!
LOCATION:Moreau Lake State Park
UID:e.2254.18602
SEQUENCE:3
DTSTAMP:20260421T010846Z
URL:https://chamber.saratoga.org/events/details/naturefest-moreau-lake-state-park-09-17-2016-18602
END:VEVENT

END:VCALENDAR
