BEGIN:VCALENDAR
VERSION:2.0
PRODID:-//ChamberMaster//Event Calendar 2.0//EN
METHOD:PUBLISH
X-PUBLISHED-TTL:P3D
REFRESH-INTERVAL:P3D
CALSCALE:GREGORIAN
BEGIN:VEVENT
DTSTART:20170224T190000Z
DTEND:20170224T200000Z
X-MICROSOFT-CDO-ALLDAYEVENT:FALSE
SUMMARY:Nature Picture Frame Making
DESCRIPTION:Join us at the Wilton Wildlife Preserve and Park for a great nature craft that can be done during any season! We will use twigs\, pine cones\, and other materials found in nature to create our picture frames. This program is for children ages 5 and up. Pre- registration required by February 23rd.
X-ALT-DESC;FMTTYPE=text/html:Join us at the Wilton Wildlife Preserve and Park for a great nature craft that can be done during any season! We will use twigs\, pine cones\, and other materials found in nature to create our picture frames. This program is for children ages 5 and up. Pre- registration required by February 23rd.
LOCATION:Camp Saratoga on Scout Road\, Parking Lot 1
UID:e.2254.21409
SEQUENCE:3
DTSTAMP:20260420T101037Z
URL:https://chamber.saratoga.org/events/details/nature-picture-frame-making-21409
END:VEVENT

END:VCALENDAR
