BEGIN:VCALENDAR
VERSION:2.0
PRODID:-//ChamberMaster//Event Calendar 2.0//EN
METHOD:PUBLISH
X-PUBLISHED-TTL:P3D
REFRESH-INTERVAL:P3D
CALSCALE:GREGORIAN
BEGIN:VEVENT
DTSTART:20150119T153000Z
DTEND:20150119T170000Z
X-MICROSOFT-CDO-ALLDAYEVENT:FALSE
SUMMARY:Nature in Winter Snowshoe Walk at Camp Saratoga
DESCRIPTION:Beat the winter blues by getting outside!  Learn about adaptations plants and animals have that help them survive the winter. If you need to rent snowshoes\, they will be available at Parking Lot 1 at Camp Saratoga: free for members or $3/pair for non-members.  Preregistration is required.
X-ALT-DESC;FMTTYPE=text/html:<span style="font-family:cambria\,serif"><span style="font-size:11.0pt">Beat the winter blues by getting outside!&nbsp\; Learn about adaptations plants and animals have that help them survive the winter. If you need to rent snowshoes\, they will be available at Parking Lot 1 at Camp Saratoga: free for members or $3/pair for non-members.&nbsp\; <em>Preregistration is required.</em></span></span>
LOCATION:Parking Lot #1\, Camp Saratoga North
UID:e.2254.953
SEQUENCE:3
DTSTAMP:20260424T015544Z
URL:https://chamber.saratoga.org/events/details/nature-in-winter-snowshoe-walk-at-camp-saratoga-01-19-2015-953
END:VEVENT

END:VCALENDAR
