BEGIN:VCALENDAR
VERSION:2.0
PRODID:-//ChamberMaster//Event Calendar 2.0//EN
METHOD:PUBLISH
X-PUBLISHED-TTL:P3D
REFRESH-INTERVAL:P3D
CALSCALE:GREGORIAN
BEGIN:VEVENT
DTSTART:20150724T143000Z
DTEND:20150724T153000Z
X-MICROSOFT-CDO-ALLDAYEVENT:FALSE
SUMMARY:Nature Craft Day
DESCRIPTION:Friday\, July 24th\, 10:30a.m.: Nature Craft Day Create a beautiful nature craft that you can hang on your wall. All ages welcome. Registration is required. Fee is $3 per person or $5 per family. Please call 518-584-2000 Ext. 150 to register.
X-ALT-DESC;FMTTYPE=text/html:Friday\, July 24th\, 10:30a.m.: Nature Craft Day Create a beautiful nature craft that you can hang on your wall. All ages welcome. Registration is required. Fee is $3 per person or $5 per family. Please call 518-584-2000 Ext. 150 to register.
LOCATION:Saratoga Spa State Park
UID:e.2254.10022
SEQUENCE:3
DTSTAMP:20260423T040525Z
URL:https://chamber.saratoga.org/events/details/nature-craft-day-07-24-2015-10022
END:VEVENT

END:VCALENDAR
