BEGIN:VCALENDAR
VERSION:2.0
PRODID:-//ChamberMaster//Event Calendar 2.0//EN
METHOD:PUBLISH
X-PUBLISHED-TTL:P3D
REFRESH-INTERVAL:P3D
CALSCALE:GREGORIAN
BEGIN:VEVENT
DTSTART:20160810T140000Z
DTEND:20160810T150000Z
X-MICROSOFT-CDO-ALLDAYEVENT:FALSE
SUMMARY:Nature Arts Hour
DESCRIPTION:For this arts hour\, we'll be inspired by scenic Delegan pond to create watercolor paintings. We'll provide the paint\, paper\, and view\, and you and your child will provide the creativity! Appropriate for all ages\, this activity will meet at parking lot 1 in Camp Saratoga North on Scout Road.
X-ALT-DESC;FMTTYPE=text/html:For this arts hour\, we&rsquo\;ll be inspired by scenic Delegan pond to create watercolor paintings. We&rsquo\;ll provide the paint\, paper\, and view\, and you and your child will provide the creativity! Appropriate for all ages\, this activity will meet at parking lot 1 in Camp Saratoga North on Scout Road.
LOCATION:Camp Saratoga\, Parking Lot 1 Scout Rd Gansevoort\, NY 12831
UID:e.2254.17104
SEQUENCE:3
DTSTAMP:20260421T002424Z
URL:https://chamber.saratoga.org/events/details/nature-arts-hour-08-10-2016-17104
END:VEVENT

END:VCALENDAR
