BEGIN:VCALENDAR
VERSION:2.0
PRODID:-//ChamberMaster//Event Calendar 2.0//EN
METHOD:PUBLISH
X-PUBLISHED-TTL:P3D
REFRESH-INTERVAL:P3D
CALSCALE:GREGORIAN
BEGIN:VEVENT
DTSTART:20160727T140000Z
DTEND:20160727T150000Z
X-MICROSOFT-CDO-ALLDAYEVENT:FALSE
SUMMARY:Nature Arts Hour
DESCRIPTION:Come learn how to use different parts of plants to dye cotton and other natural materials! We'll experiment with fruits\, vegetables\, roots and leaves to make some awesome natural tie-dyes. Please bring white cotton clothing to dye\, your handmade cord from the previous arts hour\, or purchase a t-shirt from us for a small fee. This arts hour is appropriate for all ages and will meet in parking lot 1 in Camp Saratoga North on Scout Rd.
X-ALT-DESC;FMTTYPE=text/html:Come learn how to use different parts of plants to dye cotton and other natural materials! We&rsquo\;ll experiment with fruits\, vegetables\, roots and leaves to make some awesome natural tie-dyes. Please bring white cotton clothing to dye\, your handmade cord from the previous arts hour\, or purchase a t-shirt from us for a small fee. This arts hour is appropriate for all ages and will meet in parking lot 1 in Camp Saratoga North on Scout Rd.
LOCATION:Camp Saratoga\, Parking Lot 1 Scout Rd Gansevoort\, NY 12831
UID:e.2254.17102
SEQUENCE:3
DTSTAMP:20260421T091613Z
URL:https://chamber.saratoga.org/events/details/nature-arts-hour-07-27-2016-17102
END:VEVENT

END:VCALENDAR
