BEGIN:VCALENDAR
VERSION:2.0
PRODID:-//ChamberMaster//Event Calendar 2.0//EN
METHOD:PUBLISH
X-PUBLISHED-TTL:P3D
REFRESH-INTERVAL:P3D
CALSCALE:GREGORIAN
BEGIN:VEVENT
DTSTART:20160626T140000Z
DTEND:20160626T170000Z
X-MICROSOFT-CDO-ALLDAYEVENT:FALSE
SUMMARY:National Museum of Dance Third Annual Move and Groove 5K
DESCRIPTION:The National Museum of Dance is excited to announce its third annual Move & Groove 5k on June 26th at 10am. Beginning and ending at the National Museum of Dance\, join us for a beautiful 3.1 mile course through the scenic Spa State Park! A Kid's Fun Run\, for younger athletes\, will take place before the start of the 5k run on the lawn of the National Museum of Dance\, offering awards to all participants! After the race\, join us for our Open House and tour the exhibitions currently on display. The Dance Museum will be open throughout the afternoon for all to enjoy! Be sure to check out the Museum's newest exhibitions including The Dancing Athlete\, Art in the Foyer and 50 Years at SPAC. Be sure to register for the Move and Groove 5k today by visiting the National Museum of Dance website. Use the code MOVEGROOVE for a $5 discount off the registration price\, for a limited time. T-shirts will be given to the first 100 participants\, so be sure to register early to make sure you're able to sport one as you cross the finish line!
X-ALT-DESC;FMTTYPE=text/html:The National Museum of Dance is excited to announce its third annual Move &amp\; Groove 5k on June 26th at 10am. Beginning and ending at the National Museum of Dance\, join us for a beautiful 3.1 mile course through the scenic Spa State Park! A Kid&rsquo\;s Fun Run\, for younger athletes\, will take place before the start of the 5k run on the lawn of the National Museum of Dance\, offering awards to all participants! After the race\, join us for our Open House and tour the exhibitions currently on display. The Dance Museum will be open throughout the afternoon for all to enjoy! Be sure to check out the Museum&rsquo\;s newest exhibitions including The Dancing Athlete\, Art in the Foyer and 50 Years at SPAC. Be sure to register for the Move and Groove 5k today by visiting the National Museum of Dance website. Use the code MOVEGROOVE for a $5 discount off the registration price\, for a limited time. T-shirts will be given to the first 100 participants\, so be sure to register early to make sure you&rsquo\;re able to sport one as you cross the finish line!
LOCATION:National Museum of Dance 99 S Broadway Saratoga Springs\, NY 12866
UID:e.2254.17036
SEQUENCE:3
DTSTAMP:20260421T080858Z
URL:https://chamber.saratoga.org/events/details/national-museum-of-dance-third-annual-move-and-groove-5k-06-26-2016-17036
END:VEVENT

END:VCALENDAR
