BEGIN:VCALENDAR
VERSION:2.0
PRODID:-//ChamberMaster//Event Calendar 2.0//EN
METHOD:PUBLISH
X-PUBLISHED-TTL:P3D
REFRESH-INTERVAL:P3D
CALSCALE:GREGORIAN
BEGIN:VEVENT
DTSTART:20161106T040000Z
DTEND:20161106T040000Z
X-MICROSOFT-CDO-ALLDAYEVENT:FALSE
SUMMARY:National Museum of Dance - Only the Best Bridal Show
DESCRIPTION:If you are planning your wedding\, our bridal show is a must for planning the perfect day!\n\nOver 60 of the area's best caterers\, photographers\, jewelers\, entertainers\, bridal shops\, & more! The National Museum of Dance will be transformed into a wedding wonderland. The bridal show is free & open to the public.
X-ALT-DESC;FMTTYPE=text/html:<p>If you are planning your wedding\, our bridal show is a must for planning the perfect day!</p>\n\n<p><em>Over 60 of the area&#39\;s best caterers\, photographers\, jewelers\, entertainers\, bridal shops\, &amp\; more! The National Museum of Dance will be transformed into a wedding wonderland. The bridal show is free &amp\; open to the public.</em></p>\n
LOCATION:National Museum of Dance 99 South Broadway\, Saratoga Springs
UID:e.2254.3918
SEQUENCE:3
DTSTAMP:20260420T202125Z
URL:https://chamber.saratoga.org/events/details/national-museum-of-dance-only-the-best-bridal-show-11-06-2016-3918
END:VEVENT

END:VCALENDAR
