BEGIN:VCALENDAR
VERSION:2.0
PRODID:-//ChamberMaster//Event Calendar 2.0//EN
METHOD:PUBLISH
X-PUBLISHED-TTL:P3D
REFRESH-INTERVAL:P3D
CALSCALE:GREGORIAN
BEGIN:VEVENT
DTSTART:20160813T220000Z
DTEND:20160814T020000Z
X-MICROSOFT-CDO-ALLDAYEVENT:FALSE
SUMMARY:National Museum of Dance Gala
DESCRIPTION:The most fun event of the summer season!\n\nSave the date for our 2016 Gala on August 13\, 2016. The annual gala is the Museum's largest fundraiser and is the best gala in Saratoga during the summer season. For tickets call the Museum.
X-ALT-DESC;FMTTYPE=text/html:<p>The most fun event of the summer season!</p>\n\n<p>Save the date for our 2016 Gala on August 13\, 2016. The annual gala is the Museum&#39\;s largest fundraiser and is the best gala in Saratoga during the summer season. For tickets call the Museum.</p>\n
LOCATION:National Museum of Dance
UID:e.2254.1130
SEQUENCE:3
DTSTAMP:20260421T020832Z
URL:https://chamber.saratoga.org/events/details/national-museum-of-dance-gala-08-13-2016-1130
END:VEVENT

END:VCALENDAR
