BEGIN:VCALENDAR
VERSION:2.0
PRODID:-//ChamberMaster//Event Calendar 2.0//EN
METHOD:PUBLISH
X-PUBLISHED-TTL:P3D
REFRESH-INTERVAL:P3D
CALSCALE:GREGORIAN
BEGIN:VEVENT
DTSTART:20140904T133000Z
DTEND:20140904T150000Z
X-MICROSOFT-CDO-ALLDAYEVENT:FALSE
SUMMARY:National Discover Your Optimal Health Day Lunchtime Walk - 09/04/2014
DESCRIPTION:Raise awareness and celebrate healthy living with a lunchtime walk!Kick off #HealthySaratoga Fall fitness by celebrating National Discover Your Optimal Health (NDYOH) Day on Thursday\, September 4th with a lunchtime walk.  The purpose of NDYOH Day is to encourage a lifestyle of healthy eating habits and regular physical activity for everyone\, at every age.  Employers\, employees and residents who participate in this event will meet at the Broadway entrance to Congress Park and walk north on Broadway to Van Dam Street before returning to Congress Park.  The walk is approximately 1 mile in total\, and participants are encouraged to walk at a comfortable pace allowing for conversation and networking. This event will be held rain or shine. Healthy drinks and snacks will be provided for all walkers.\n \n12:00 pm  Gather at the entrance to Congress Park on Broadway                                                                \n12:15 pm Walk begins\nTo register\, go to optimalhealthwalk.eventbrite.com
X-ALT-DESC;FMTTYPE=text/html:<p>Raise awareness and celebrate healthy living with a lunchtime walk!</p><p>Kick off #HealthySaratoga Fall fitness by celebrating National Discover Your Optimal Health (NDYOH) Day on Thursday\, September 4th with a lunchtime walk.&nbsp\; The purpose of NDYOH Day is to encourage a lifestyle of healthy eating habits and regular physical activity&mdash\;for everyone\, at every age.&nbsp\; Employers\, employees and residents who participate in this event will meet at the Broadway entrance to Congress Park and walk north on Broadway to Van Dam Street before returning to Congress Park.&nbsp\; The walk is approximately 1 mile in total\, and participants are encouraged to walk at a comfortable pace allowing for conversation and networking. This event will be held rain or shine. Healthy drinks and snacks will be provided for all walkers.</p>\n<p>&nbsp\;</p>\n<p>12:00 pm&nbsp\; Gather at the entrance to Congress Park on Broadway &nbsp\;&nbsp\;&nbsp\;&nbsp\;&nbsp\;&nbsp\;&nbsp\;&nbsp\;&nbsp\;&nbsp\;&nbsp\;&nbsp\;&nbsp\;&nbsp\;&nbsp\;&nbsp\;&nbsp\;&nbsp\;&nbsp\;&nbsp\;&nbsp\;&nbsp\;&nbsp\;&nbsp\;&nbsp\;&nbsp\;&nbsp\;&nbsp\;&nbsp\;&nbsp\;&nbsp\;&nbsp\;&nbsp\;&nbsp\;&nbsp\;&nbsp\;&nbsp\;&nbsp\;&nbsp\;&nbsp\;&nbsp\;&nbsp\;&nbsp\;&nbsp\;&nbsp\;&nbsp\;&nbsp\;&nbsp\;&nbsp\;&nbsp\;&nbsp\;&nbsp\;&nbsp\;&nbsp\;&nbsp\;&nbsp\;&nbsp\;&nbsp\;&nbsp\;&nbsp\;&nbsp\;&nbsp\;&nbsp\;</p>\n<p>12:15 pm Walk begins</p>\n<p>To register\, go to optimalhealthwalk.eventbrite.com</p>
LOCATION:Saratoga Spa State Park - North Loop
UID:e.2254.3531
SEQUENCE:3
DTSTAMP:20260424T111102Z
URL:https://chamber.saratoga.org/events/details/national-discover-your-optimal-health-day-lunchtime-walk-09-04-2014-09-04-2014-3531
END:VEVENT

END:VCALENDAR
