BEGIN:VCALENDAR
VERSION:2.0
PRODID:-//ChamberMaster//Event Calendar 2.0//EN
METHOD:PUBLISH
X-PUBLISHED-TTL:P3D
REFRESH-INTERVAL:P3D
CALSCALE:GREGORIAN
BEGIN:VEVENT
DTSTART:20150605T210000Z
DTEND:20150606T000000Z
X-MICROSOFT-CDO-ALLDAYEVENT:FALSE
SUMMARY:My Art Teacher Has Talent! Exhibit Opening
DESCRIPTION:We're turning the tables on the art teachers at Brookside  this time it's their turn to create and display artwork for the world to see! We've invited art teachers from schools around Saratoga County to display their works in our Long Room Gallery this Spring. We can' wait to see what the art experts in our schools create\, and we're certain their students won't miss this opportunity to show up and grade the teachers.
X-ALT-DESC;FMTTYPE=text/html:We&#39\;re turning the tables on the art teachers at Brookside&nbsp\; this time it&#39\;s their turn to create and display artwork for the world to see! We&#39\;ve invited art teachers from schools around Saratoga County to display their works in our Long Room Gallery this Spring. We can&#39\; wait to see what the art experts in our schools create\, and we&#39\;re certain their students won&#39\;t miss this opportunity to show up and grade the teachers.
LOCATION:Brookside Museum 6 Charlton Street Ballston Spa\, NY
UID:e.2254.7745
SEQUENCE:3
DTSTAMP:20260423T073022Z
URL:https://chamber.saratoga.org/events/details/my-art-teacher-has-talent-exhibit-opening-06-05-2015-7745
END:VEVENT

END:VCALENDAR
