BEGIN:VCALENDAR
VERSION:2.0
PRODID:-//ChamberMaster//Event Calendar 2.0//EN
METHOD:PUBLISH
X-PUBLISHED-TTL:P3D
REFRESH-INTERVAL:P3D
CALSCALE:GREGORIAN
BEGIN:VEVENT
DTSTART:20140802T110000Z
DTEND:20140802T140000Z
X-MICROSOFT-CDO-ALLDAYEVENT:FALSE
SUMMARY:Mt. Hadley Guided Hike - 08/02/2014
DESCRIPTION:Guided hike of Mt. Hadley starting at 9:00am on August 2nd.Enjoy a family-friendly hike through some of Saratoga County's most scenic uplands\; learning about forest regeneration after fires as you hike through woodlands that contain bare rock patches.\nWe will be climbing the Western Ridge\, and then will head North to the summit where we see the fire tire and will enjoy extensive views of Sacandaga Lake. This is a moderately strenuous hike of several miles over rocky terrain and with sections of steep climbing. Sturdy footwear and hiking poles are recommended.\nBring water and a lunch to enjoy as we rest at the top of Hadley Mountain.This event is capped at 15 people. Please RSVP to emily@saratogaplan.org
X-ALT-DESC;FMTTYPE=text/html:<p>Guided hike of Mt. Hadley starting at 9:00am on August 2nd.</p><p><p style="margin: 0.0px 0.0px 0.0px 0.0px\; font: 14.0px Calibri">Enjoy a family-friendly hike through some of Saratoga County's most scenic uplands\; learning about forest <span style="font: 14.1px Calibri">regeneration after fires as you hike </span>through woodlands that contain bare rock patches.</p>\n<p style="margin: 0.0px 0.0px 0.0px 0.0px\; font: 14.0px Calibri">We will be climbing the Western Ridge\, and then will head North to the summit where we see the fire tire and will enjoy extensive views of Sacandaga Lake. This is a moderately strenuous hike of several miles over rocky terrain and with sections of steep climbing. Sturdy footwear and hiking poles are recommended.</p>\n<p style="margin: 0.0px 0.0px 0.0px 0.0px\; font: 14.0px Calibri">Bring water and a lunch to enjoy as we rest at the top of Hadley Mountain.</p>This event is capped at 15 people. Please RSVP to emily@saratogaplan.org</p>
LOCATION:Mt. Hadley
UID:e.2254.3465
SEQUENCE:3
DTSTAMP:20260424T155752Z
URL:https://chamber.saratoga.org/events/details/mt-hadley-guided-hike-08-02-2014-08-02-2014-3465
END:VEVENT

END:VCALENDAR
